BEGIN:VCALENDAR
VERSION:2.0
PRODID:-//The Downward Dog Co Cafe - ECPv5.3.0//NONSGML v1.0//EN
CALSCALE:GREGORIAN
METHOD:PUBLISH
X-WR-CALNAME:The Downward Dog Co Cafe
X-ORIGINAL-URL:https://downwarddogcafe.com.au
X-WR-CALDESC:Events for The Downward Dog Co Cafe
BEGIN:VTIMEZONE
TZID:UTC
BEGIN:STANDARD
TZOFFSETFROM:+0000
TZOFFSETTO:+0000
TZNAME:UTC
DTSTART:20190101T000000
END:STANDARD
END:VTIMEZONE
BEGIN:VEVENT
DTSTART;TZID=UTC:20190817T180000
DTEND;TZID=UTC:20190817T210000
DTSTAMP:20210228T012709
CREATED:20190802T090736Z
LAST-MODIFIED:20190802T090736Z
UID:2742-1566064800-1566075600@downwarddogcafe.com.au
SUMMARY:Courtyard Sessions Featuring Benny Fowler
DESCRIPTION:CHAPTER 31 of the Courtyard Sessions will feature Benny Fowler\, singer/songwriter\, solo artist and front man to NSW band Benji and the Saltwater Sound System who play world folk music with a gentle edge that cuts. \nBenny Fowler is widely known for fronting numerous successful NSW bands and musical projects. Since returning from a hiatus in remote Solomon Islands in 2015 Benny has formed Benji and the Saltwater Sound System. This band has quickly gained a reputation in the Australian music scene as an up and coming force to be reckoned with. \nBenny’s sound fuses pacific flavours with the raw sounds of the Australian East Coast. With a band behind him he creates hypnotic soundscapes underpinned by painfully catchy melodies. When you hear him solo his beautifully poignant lyrics and prowess for songwriting are unmistakable and mesmerising. \nBenny has had the honour of playing at numerous acclaimed festivals\, venues and events. These include Woodford Folk Festival\, the National Folk Festival\, Peak Festival\, Granite Town\, Summer Rhythm\, Palm Creek Folk Festival\, Sydney Blues Festival\, Springfest and Illawarra Folk Festival just to name a few. \n“Benji and the Saltwater Sound System skillfully blur the lines between genre\, sound and style. Their latest record bursts at the seams with a dynamic flavour\, making for one damn fine debut.” – Liz Campbell – Happy Mag. \n“An unrivaled debut offering from anyone else of their ilk. It’s painfully catchy and demands a repeat listen.” – Jake Wilton – AAA Backstage \nBenny will begin his performance at 6pm Saturday 17th of august.\nIf you would like to make a dinner reservation please contact the Café on (02) 4473 5583. \nThe COURTYARD SESSIONS are a series of alternative music and art events that will feature an eclectic showcase of original and alternative live music\, poetry\, improv\, exhibitions and more; from local and interstate\, it’s a place for musicians\, performers and artists of all kinds. Each “Chapter” will be held in The Downward Dog Co. Café’s beautiful stone courtyard in the heart of Bodalla. \nThe Downward Dog Cafe is now fully licensed come in and enjoy our delicious range of Beer\, Wine and Cocktails.
URL:https://downwarddogcafe.com.au/event/courtyard-sessions-featuring-benny-fowler/
LOCATION:The Downward Dog Co. Cafe\, Bodalla\, NSW\, Australia
CATEGORIES:Music
ATTACH;FMTTYPE=image/jpeg:https://downwarddogcafe.com.au/wp-content/uploads/2019/08/Downward-Dog-Cafe-CS31-Benny-Fowler-event-banner.jpg
END:VEVENT
END:VCALENDAR