BEGIN:VCALENDAR
VERSION:2.0
PRODID:-//The Downward Dog Co Cafe - ECPv5.3.0//NONSGML v1.0//EN
CALSCALE:GREGORIAN
METHOD:PUBLISH
X-WR-CALNAME:The Downward Dog Co Cafe
X-ORIGINAL-URL:https://downwarddogcafe.com.au
X-WR-CALDESC:Events for The Downward Dog Co Cafe
BEGIN:VTIMEZONE
TZID:UTC
BEGIN:STANDARD
TZOFFSETFROM:+0000
TZOFFSETTO:+0000
TZNAME:UTC
DTSTART:20180101T000000
END:STANDARD
END:VTIMEZONE
BEGIN:VEVENT
DTSTART;TZID=UTC:20180825T180000
DTEND;TZID=UTC:20180825T203000
DTSTAMP:20210228T014227
CREATED:20180731T105738Z
LAST-MODIFIED:20180731T105738Z
UID:2595-1535220000-1535229000@downwarddogcafe.com.au
SUMMARY:Courtyard Sessions Featuring Bev Banjo Long & Andy Bone Ford
DESCRIPTION:Chapter 19 of the Courtyard Sessions will feature talented local artists Beverly “Banjo” Long & Andy Bone Ford! \nBev & Andy will be bringing their unique and engaging take on old world Jazz to their performance at the Cafe on Saturday 25 August. Regarded as two of the best traditional jazz players on the far south coast\, Bev & Andy have teamed up to develop a captivating style playing tunes from the 1920s. Be taken back to when New Orleans was changing fast with such musical influences as King Oliver\, Kid Ory\, Duke Ellington and of course the great Satchmo. Jazz was hot and the Speakeasies even hotter! \nWith Bev on 4 string plectrum style 1930’s Banjo and Andy on muted style Trombone\, this duo are looking forward to presenting their music in a more laid back way at The Downward Dog Co Cafe \nThe COURTYARD SESSIONS are a series of alternative music and art events that will feature an eclectic showcase of original and alternative live music\, poetry\, improv\, exhibitions and more; from local and interstate\, it’s a place for musicians\, performers and artists of all kinds. Each “Chapter” will be held in The Downward Dog Co. Café’s beautiful stone courtyard in the heart of Bodalla. \nBev & Andy will begin their performance at 6pm on Saturday 25th of August. If you would like to make a dinner reservation please contact the Café on (02) 4473 5583. \nThe Downward Dog Cafe is fully licensed with a great selection\, come in and enjoy our delicious range of Beer\, Wine and Cocktails.
URL:https://downwarddogcafe.com.au/event/courtyard-sessions-featuring-bev-banjo-long-andy-bone-ford/
LOCATION:The Downward Dog Co. Cafe\, Bodalla\, NSW\, Australia
CATEGORIES:Music
ATTACH;FMTTYPE=image/jpeg:https://downwarddogcafe.com.au/wp-content/uploads/2018/07/Downward-Dog-Event-Banner-Bev-Banjo-Co.jpg
END:VEVENT
END:VCALENDAR