BEGIN:VCALENDAR
VERSION:2.0
PRODID:-//The Downward Dog Co Cafe - ECPv5.3.0//NONSGML v1.0//EN
CALSCALE:GREGORIAN
METHOD:PUBLISH
X-WR-CALNAME:The Downward Dog Co Cafe
X-ORIGINAL-URL:https://downwarddogcafe.com.au
X-WR-CALDESC:Events for The Downward Dog Co Cafe
BEGIN:VTIMEZONE
TZID:UTC
BEGIN:STANDARD
TZOFFSETFROM:+0000
TZOFFSETTO:+0000
TZNAME:UTC
DTSTART:20190101T000000
END:STANDARD
END:VTIMEZONE
BEGIN:VEVENT
DTSTART;TZID=UTC:20190119T180000
DTEND;TZID=UTC:20190119T210000
DTSTAMP:20210228T014351
CREATED:20190103T013332Z
LAST-MODIFIED:20190103T013605Z
UID:2694-1547920800-1547931600@downwarddogcafe.com.au
SUMMARY:Courtyard Sessions Featuring Corey Legge
DESCRIPTION:CHAPTER 24 of the Courtyard Sessions will feature returning solo singer/songwriter Corey Legge\, front-man to local South Coast Blues-rockers\, The Swamp Stompers. \n25 year old Corey Legge plays heartfelt acoustic folk and pop\, drawing influence from growing up on the beautiful Far South Coast of NSW. Corey’s original music is reminiscent of James Taylor’s heyday\, with intricate fingerpicking\, and vocal melodies that will get stuck in your head for days. \nCorey has been described as “A creative\, highly skilled pro. With all the talent\, hunger and attitude to become one of Australia’s best.‘’ Lloyd Spiegel (Australian Blues Legend). \nThe COURTYARD SESSIONS are a series of alternative music and art events that will feature an eclectic showcase of original and alternative live music\, poetry\, improv\, exhibitions and more; from local and interstate\, it’s a place for musicians\, performers and artists of all kinds. Each “Chapter” will be held in The Downward Dog Co. Café’s beautiful stone courtyard in the heart of Bodalla. \nCorey will begin his performance at 6pm Saturday 19th January. \nIf you would like to make a dinner reservation please contact the Café on (02) 4473 5583. \nThe Downward Dog Cafe is fully licensed come in and enjoy our delicious range of Beer\, Wine and Cocktails.
URL:https://downwarddogcafe.com.au/event/courtyard-sessions-featuring-corey-legge-2/
LOCATION:The Downward Dog Co. Cafe\, Bodalla\, NSW\, Australia
CATEGORIES:Music
ATTACH;FMTTYPE=image/jpeg:https://downwarddogcafe.com.au/wp-content/uploads/2019/01/Courtyard-Sessions-Corey-Legge-The-Downward-Dog-Co-1.jpg
END:VEVENT
END:VCALENDAR