BEGIN:VCALENDAR
VERSION:2.0
PRODID:-//The Downward Dog Co Cafe - ECPv5.3.0//NONSGML v1.0//EN
CALSCALE:GREGORIAN
METHOD:PUBLISH
X-WR-CALNAME:The Downward Dog Co Cafe
X-ORIGINAL-URL:https://downwarddogcafe.com.au
X-WR-CALDESC:Events for The Downward Dog Co Cafe
BEGIN:VTIMEZONE
TZID:UTC
BEGIN:STANDARD
TZOFFSETFROM:+0000
TZOFFSETTO:+0000
TZNAME:UTC
DTSTART:20190101T000000
END:STANDARD
END:VTIMEZONE
BEGIN:VEVENT
DTSTART;TZID=UTC:20191130T180000
DTEND;TZID=UTC:20191130T210000
DTSTAMP:20210228T012817
CREATED:20191115T102313Z
LAST-MODIFIED:20191115T102822Z
UID:2763-1575136800-1575147600@downwarddogcafe.com.au
SUMMARY:Courtyard Sessions Featuring Dane Overton & Sam Fletcher
DESCRIPTION:Chapter 35 of the Courtyard Sessions will feature Dane Overton\, Gerringong based Blues and Roots Singer/Songwriter\n+ supported by local indie/folk-rock talent Sam Fletcher \nDane Overton has forged a name for himself with his hearty blend of blues and roots music that burns in the soul; songs that bleed with the soulful yawl of Tom Waits\, the honesty and conviction of Son House and the Delta Blues and the joy and warmth of The John Butler Trio\nKnown to many as the frontman of ‘The Joy Williams band” Danes sound is stronger\, louder and more powerful than ever before\, giving him the opportunity to not only play his unique type of blues\, but open up new avenues of songwriting.\nA slew of recent touring\, including supporting slots for Phil Jamison of iconic Australian rock act Grinspoon and Kim Churchill\, oft considered part of the new guard in roots music down under\, has afforded new and diverse audiences across Australia an opportunity to familiarise themselves with Overton’s dirty\, tobacco stained brand of blues and roots music. On top of national touring\, Dane has also toured internationally\, including Europe\, Singapore and Cuba. \nSupporting Dane will be local artist Sam Fletcher\, Indie folk and classic rock with a laid-back thoughtful air is the signature sound of this acoustic singer/songwriter. Influenced by the acoustic greats of the 60’s and 70’s\, and the folk songs of old\, Sam’s music is mnemonic with that of James Taylor and John Martyn. \nPerformances will begin from 6pm Saturday 30th of November.\nIf you would like to make a dinner reservation please contact the Café on (02) 4473 5583. \nThe COURTYARD SESSIONS are a series of alternative music and art events that will feature an eclectic showcase of original and alternative live music\, poetry\, improv\, exhibitions and more; from local and interstate\, it’s a place for musicians\, performers and artists of all kinds. Each “Chapter” will be held in The Downward Dog Co. Café’s beautiful stone courtyard in the heart of Bodalla.\nThe Downward Dog Cafe is now fully licensed come in and enjoy our delicious range of Beer\, Wine and Cocktails.
URL:https://downwarddogcafe.com.au/event/courtyard-sessions-featuring-dane-overton-sam-fletcher/
LOCATION:The Downward Dog Co. Cafe\, Bodalla\, NSW\, Australia
CATEGORIES:Music
ATTACH;FMTTYPE=image/jpeg:https://downwarddogcafe.com.au/wp-content/uploads/2019/11/The-Downward-Dog-Cafe-CS35-Dane-Overton-Sam-Fletcher-banner.jpg
END:VEVENT
END:VCALENDAR