BEGIN:VCALENDAR
VERSION:2.0
PRODID:-//The Downward Dog Co Cafe - ECPv5.3.0//NONSGML v1.0//EN
CALSCALE:GREGORIAN
METHOD:PUBLISH
X-WR-CALNAME:The Downward Dog Co Cafe
X-ORIGINAL-URL:https://downwarddogcafe.com.au
X-WR-CALDESC:Events for The Downward Dog Co Cafe
BEGIN:VTIMEZONE
TZID:UTC
BEGIN:STANDARD
TZOFFSETFROM:+0000
TZOFFSETTO:+0000
TZNAME:UTC
DTSTART:20190101T000000
END:STANDARD
END:VTIMEZONE
BEGIN:VEVENT
DTSTART;TZID=UTC:20190713T180000
DTEND;TZID=UTC:20190713T210000
DTSTAMP:20210228T012646
CREATED:20190620T100507Z
LAST-MODIFIED:20190620T100507Z
UID:2737-1563040800-1563051600@downwarddogcafe.com.au
SUMMARY:Courtyard Sessions Featuring Dinesh Moylan
DESCRIPTION:CHAPTER 30 of the Courtyard Sessions will feature one of Australia’s most innovate guitarists Dinesh Moylan\, an accomplished songwriter with a lifetime of storytelling. \nDinesh’s voice has been seasoned by decades of touring in bands up and down the east coast of Australia\, performing at festivals such as Port Fairy Folk Festival\, Cobargo Folk Festival\, Great Southern Blues Festival\, the National Folk Festival and gigs overseas. \nMusical influences have been gathered from many sources: listening to bouzouki bands in Greece as a kid\, living and working as a sound engineer in India\, travels in Japan\, Europe and South America overlaying a solid grounding in blues\, roots and folk traditions. This east-meets-west flavour emerges through emotive slide guitar played on the top 2 strings of 7 and 6 string baritone guitars\, at times a haunting hint of delicate sitar\, a moment later a whiff of foot-stomping delta blues\, while rhythmic finger-picking overlays solid driving bass\, foot percussion and harmonica\, combining traditional acoustic instruments with the full palette of modern electronic effects. \nDinesh Moylan will begin his performance at 6pm Saturday 13th of July. If you would like to make a dinner reservation please contact the Café on (02) 4473 5583. \nThe COURTYARD SESSIONS are a series of alternative music and art events that will feature an eclectic showcase of original and alternative live music\, poetry\, improv\, exhibitions and more; from local and interstate\, it’s a place for musicians\, performers and artists of all kinds. Each “Chapter” will be held in The Downward Dog Co. Café’s beautiful stone courtyard in the heart of Bodalla. \nThe Downward Dog Cafe is now fully licensed come in and enjoy our delicious range of Beer\, Wine and Cocktails.
URL:https://downwarddogcafe.com.au/event/courtyard-sessions-featuring-dinesh-moylan/
LOCATION:The Downward Dog Co. Cafe\, Bodalla\, NSW\, Australia
CATEGORIES:Music
ATTACH;FMTTYPE=image/jpeg:https://downwarddogcafe.com.au/wp-content/uploads/2019/06/CS30-Dinesh-Moylan-The-Downward-Dog-Cafe-event-banner.jpg
END:VEVENT
END:VCALENDAR