BEGIN:VCALENDAR
VERSION:2.0
PRODID:-//The Downward Dog Co Cafe - ECPv5.3.0//NONSGML v1.0//EN
CALSCALE:GREGORIAN
METHOD:PUBLISH
X-WR-CALNAME:The Downward Dog Co Cafe
X-ORIGINAL-URL:https://downwarddogcafe.com.au
X-WR-CALDESC:Events for The Downward Dog Co Cafe
BEGIN:VTIMEZONE
TZID:UTC
BEGIN:STANDARD
TZOFFSETFROM:+0000
TZOFFSETTO:+0000
TZNAME:UTC
DTSTART:20180101T000000
END:STANDARD
END:VTIMEZONE
BEGIN:VEVENT
DTSTART;TZID=UTC:20181020T180000
DTEND;TZID=UTC:20181020T210000
DTSTAMP:20210228T014302
CREATED:20181005T115025Z
LAST-MODIFIED:20181005T115025Z
UID:2674-1540058400-1540069200@downwarddogcafe.com.au
SUMMARY:Courtyard Sessions Featuring Fretz & Reedz
DESCRIPTION:Chapter 21 of the Courtyard Sessions will feature Fretz & Reedz\, bringing you timeless rock\, jazz and blues classics in a way you’ve never heard before. The band will be joining us at the Cafe on Saturday 20th October from 6pm. \nMuzz\, Mick\, Max and Gail have come together to provide a unique musical experience as Fretz & Reedz. Muzz’s guitar work sets a dynamic new rhythm to classic rock\, country and blues. You’ll hear old favourites given fresh new appeal being played in styles from a bossa nova to reggae beat. Muzz’s vocals are unique and powerful. Mick\, a traditional bluesman on the harmonica\, plays wailing blues rock to smooth minor strains. Mick also adds alto sax behind some of Muzz’s unique renditions of old jazz standards. Gail a vocalist trained in gospel\, blues and jazz traditions\, provides strong female vocals to the old jazz and blues standards as well as singing backup. Max’s youthful approach and improvisational jazz style on trombone add a unique flavour to the band’s take on the old rock and blues standards. \nThe COURTYARD SESSIONS are a series of alternative music and art events that will feature an eclectic showcase of original and alternative live music\, poetry\, improv\, exhibitions and more; from local and interstate\, it’s a place for musicians\, performers and artists of all kinds. Each “Chapter” will be held in The Downward Dog Co. Café’s beautiful stone courtyard in the heart of Bodalla. \nFretz & Reedz will begin their performance at 6pm on Saturday 20th of October. If you would like to make a dinner reservation please contact the Café on (02) 4473 5583. \nThe Downward Dog Cafe is fully licensed with a great selection\, come in and enjoy our delicious range of Beer\, Wine and Cocktails.
URL:https://downwarddogcafe.com.au/event/courtyard-sessions-featuring-fretz-reedz/
LOCATION:The Downward Dog Co. Cafe\, Bodalla\, NSW\, Australia
CATEGORIES:Music
ATTACH;FMTTYPE=image/jpeg:https://downwarddogcafe.com.au/wp-content/uploads/2018/10/Downward-Dog-Courtyard-Sessions-Fretz-and-Reedz.jpg
END:VEVENT
END:VCALENDAR