BEGIN:VCALENDAR
VERSION:2.0
PRODID:-//The Downward Dog Co Cafe - ECPv5.3.0//NONSGML v1.0//EN
CALSCALE:GREGORIAN
METHOD:PUBLISH
X-WR-CALNAME:The Downward Dog Co Cafe
X-ORIGINAL-URL:https://downwarddogcafe.com.au
X-WR-CALDESC:Events for The Downward Dog Co Cafe
BEGIN:VTIMEZONE
TZID:UTC
BEGIN:STANDARD
TZOFFSETFROM:+0000
TZOFFSETTO:+0000
TZNAME:UTC
DTSTART:20190101T000000
END:STANDARD
END:VTIMEZONE
BEGIN:VEVENT
DTSTART;TZID=UTC:20190309T180000
DTEND;TZID=UTC:20190309T210000
DTSTAMP:20210228T014424
CREATED:20190218T013043Z
LAST-MODIFIED:20190218T013043Z
UID:2707-1552154400-1552165200@downwarddogcafe.com.au
SUMMARY:Courtyard Sessions Featuring James Mcq
DESCRIPTION:CHAPTER 26 of the Courtyard Sessions will feature 21 year old solo folk artist\, James Mcq plus support from local talent Sam and Russel Fletcher. \nJames grew up restless writing a dismantled catalogue of songs on the east coast of Victoria. Through his early teens he began playing with an array of lineups\, gaining a following performing at venues around rural Victoria. After schooling was out of the way James abandoned his hometown on the coast for the city to establish his solo career. Since then he has focused on storytelling through his music drawing inspiration from Melbourne poet Shelton Lea and Algérian existentialist Albert Camus. With an atypical folk sound combined with a disarming onstage presence James has already played some significant festivals such as The Nannup Folk Festival in WA\, as well as undertaking a 35 date tour across the nation in 2018. \nJames will be supported by Sam Fletcher (Kumera Patch) accompanied by Russel Fletcher. \nThe COURTYARD SESSIONS are a series of alternative music and art events that will feature an eclectic showcase of original and alternative live music\, poetry\, improv\, exhibitions and more; from local and interstate\, it’s a place for musicians\, performers and artists of all kinds. Each “Chapter” will be held in The Downward Dog Co. Café’s beautiful stone courtyard in the heart of Bodalla. \nMusic starts at 6pm Saturday 9th March. \nIf you would like to make a dinner reservation please contact the Café on (02) 4473 5583. \nThe Downward Dog Café is fully licensed come in and enjoy our delicious range of Beer\, Wine and Cocktails.
URL:https://downwarddogcafe.com.au/event/courtyard-sessions-featuring-james-mcq/
LOCATION:The Downward Dog Co. Cafe\, Bodalla\, NSW\, Australia
CATEGORIES:Music
ATTACH;FMTTYPE=image/jpeg:https://downwarddogcafe.com.au/wp-content/uploads/2019/02/James-Mcq-CS26-The-Downard-Dog-Cafe-Event.jpg
END:VEVENT
END:VCALENDAR