BEGIN:VCALENDAR
VERSION:2.0
PRODID:-//The Downward Dog Co Cafe - ECPv5.3.0//NONSGML v1.0//EN
CALSCALE:GREGORIAN
METHOD:PUBLISH
X-WR-CALNAME:The Downward Dog Co Cafe
X-ORIGINAL-URL:https://downwarddogcafe.com.au
X-WR-CALDESC:Events for The Downward Dog Co Cafe
BEGIN:VTIMEZONE
TZID:UTC
BEGIN:STANDARD
TZOFFSETFROM:+0000
TZOFFSETTO:+0000
TZNAME:UTC
DTSTART:20190101T000000
END:STANDARD
END:VTIMEZONE
BEGIN:VEVENT
DTSTART;TZID=UTC:20190608T180000
DTEND;TZID=UTC:20190608T210000
DTSTAMP:20210228T012627
CREATED:20190603T052432Z
LAST-MODIFIED:20190603T052432Z
UID:2732-1560016800-1560027600@downwarddogcafe.com.au
SUMMARY:Courtyard Sessions Featuring Totum
DESCRIPTION:CHAPTER 29 of the Courtyard Sessions will showcase returning artists TOTUM “a duo with a difference”. Featuring Jo and Dave Tweedie\, this talented local act have performed on stages all around Australia. \nTOTUM use live looping with percussion and guitars\, along with lush vocal harmonies and a diverse set list to deliver a unique and entertaining performance. Their set will feature a mix of their own original songs and a selection of some favourite covers. TOTUM has also released an EP of original music called “Little Birdy”. \nTOTUM’s members\, Jo and Dave Tweedie are amazing musicians in their own right. Dave has been performing professionally for over 20 years and has toured the country numerous times with Aussie pop icon Pete Murray and US sensation Tony Childs as well as sharing the stage with Jimmy Barnes\, Busby Marou\, Katie Noonan\, Mal Eastick\, Dave Ades and many other amazing artists. He is also a successful music producer and engineer working on numerous albums and movie scores with some of Australia’s finest. His beautiful partner Jo is a talented singer with beautiful tone and feeling not possessed by many. \nTOTUM will begin their performance at 6pm Saturday 8th of June.\nIf you would like to make a dinner reservation please contact the Café on (02) 4473 5583. \nThe COURTYARD SESSIONS are a series of alternative music and art events that will feature an eclectic showcase of original and alternative live music\, poetry\, improv\, exhibitions and more; from local and interstate\, it’s a place for musicians\, performers and artists of all kinds. Each “Chapter” will be held in The Downward Dog Co. Café’s beautiful stone courtyard in the heart of Bodalla. \nThe Downward Dog Cafe is now fully licensed come in and enjoy our delicious range of Beer\, Wine and Cocktails.
URL:https://downwarddogcafe.com.au/event/courtyard-sessions-featuring-totum-3/
LOCATION:The Downward Dog Co. Cafe\, Bodalla\, NSW\, Australia
CATEGORIES:Music
ATTACH;FMTTYPE=image/jpeg:https://downwarddogcafe.com.au/wp-content/uploads/2019/06/CS29-Totum-event-banner.jpg
END:VEVENT
END:VCALENDAR